BEGIN:VCALENDAR
VERSION:2.0
PRODID:-//ChamberMaster//Event Calendar 2.0//EN
METHOD:PUBLISH
X-PUBLISHED-TTL:P3D
REFRESH-INTERVAL:P3D
CALSCALE:GREGORIAN
BEGIN:VEVENT
DTSTART:20230713T210000Z
DTEND:20230713T230000Z
X-MICROSOFT-CDO-ALLDAYEVENT:FALSE
SUMMARY:Meet the Artists Reception
DESCRIPTION:Meet Oren and other artists. Light refreshments will be served. The University Welcome will be given by Joe Curran\, Ph.D.\, professor and chair of Religious Studies\; director of the Medical and Health Humanities program\; Associate Director\, Honors Program\, and Train Enthusiast. Dean Mastrangelo will perform live piano music.
X-ALT-DESC;FMTTYPE=text/html:Meet Oren and other artists. Light refreshments will be served. The University Welcome will be given by Joe Curran\, Ph.D.\, professor and chair of Religious Studies\; director of the Medical and Health Humanities program\; Associate Director\, Honors Program\, and Train Enthusiast. Dean Mastrangelo will perform live piano music.
LOCATION:Pauly Friedman Art Gallery at Misericordia University
UID:e.3296.854
SEQUENCE:3
DTSTAMP:20260421T100032Z
URL:https://business.backmountainchamber.org/events/details/meet-the-artists-reception-854
END:VEVENT

END:VCALENDAR
