BEGIN:VCALENDAR
VERSION:2.0
PRODID:-//ChamberMaster//Event Calendar 2.0//EN
METHOD:PUBLISH
X-PUBLISHED-TTL:P3D
REFRESH-INTERVAL:P3D
CALSCALE:GREGORIAN
BEGIN:VEVENT
DTSTART;VALUE=DATE:20220912
DTEND;VALUE=DATE:20220913
TRANSP:TRANSPARENT
X-MICROSOFT-CDO-ALLDAYEVENT:TRUE
SUMMARY:Misericordia Athletics 31st Annual Golf Tournament
DESCRIPTION:Misericordia University is hosting its 31st Annual Golf Tournament on Monday\, September 12\, 2022\, at Blue Ridge Trail Golf Club in Mountain Top\, PA. All proceeds will support Misericordia's 26 athletic teams and 500+ Division III athletes.\n\n\n\nRegistration and breakfast begin at 9:00 am. The entry fee includes cart and greens fees\, practice time\, breakfast\, lunch\, and prizes. The tournament will be Captain and Crew format with a Shotgun Start at 10:00 am (rain or shine) and cocktails\, lunch\, and our program will immediately follow.\n\n\n\nContact Paige May at (570) 674-6374 for registration questions and Meredith Vincelli at (570) 674-6472 for sponsorship opportunities.\n\n\n\nThe link to our online registration is www.misericordia.edu/arnie-garinger-tournament.\n\n\n\n*If you are a single golfer\, we will assign a team to you as openings become available.
X-ALT-DESC;FMTTYPE=text/html:<span style="font-size:14px\;"><span style="color: rgb(0\, 0\, 0)\; font-family: Arial\, sans-serif\;">Misericordia University is hosting its 31st Annual Golf Tournament on Monday\, September 12\, 2022\, at Blue Ridge Trail Golf Club in Mountain Top\, PA. All proceeds will support Misericordia&#39\;s 26 athletic teams and 500+ Division III athletes.<br />\n<br />\nRegistration and breakfast begin at 9:00 am. The entry fee includes cart and greens fees\, practice time\, breakfast\, lunch\, and prizes. The tournament will be Captain and Crew format with a Shotgun Start at 10:00 am (rain or shine) and cocktails\, lunch\, and our program will immediately follow.</span><br style="color: rgb(0\, 0\, 0)\; font-family: Arial\, sans-serif\; font-size: 12px\;" />\n<br style="color: rgb(0\, 0\, 0)\; font-family: Arial\, sans-serif\; font-size: 12px\;" />\n<strong><span style="color: rgb(0\, 0\, 0)\; font-family: Arial\, sans-serif\;">Contact Paige May at (570) 674-6374 for registration questions and Meredith Vincelli at (570) 674-6472 for sponsorship opportunities.</span></strong><br style="color: rgb(0\, 0\, 0)\; font-family: Arial\, sans-serif\; font-size: 12px\;" />\n<br style="color: rgb(0\, 0\, 0)\; font-family: Arial\, sans-serif\; font-size: 12px\;" />\n<span style="color: rgb(0\, 0\, 0)\; font-family: Arial\, sans-serif\;">The link to our online registration is&nbsp\;</span><a data-saferedirecturl="https://www.google.com/url?q=http://www.misericordia.edu/arnie-garinger-tournament&amp\;source=gmail&amp\;ust=1657983959784000&amp\;usg=AOvVaw1zw28QWoY9E4EcexdE_0hK" href="http://www.misericordia.edu/arnie-garinger-tournament" style="color: rgb(17\, 85\, 204)\; font-family: Arial\, sans-serif\; font-size: 12px\;" target="_blank">www.misericordia.edu/arnie-<wbr />garinger-tournament</a><span style="color: rgb(0\, 0\, 0)\; font-family: Arial\, sans-serif\;">.</span><br style="color: rgb(0\, 0\, 0)\; font-family: Arial\, sans-serif\; font-size: 12px\;" />\n<br style="color: rgb(0\, 0\, 0)\; font-family: Arial\, sans-serif\; font-size: 12px\;" />\n<span style="color: rgb(0\, 0\, 0)\; font-family: Arial\, sans-serif\;">*If you are a single golfer\, we will assign a team to you as openings become available.</span></span>
LOCATION:Blue Ridge Trail Golf Club in Mountain Top\, PA.
UID:e.3296.760
SEQUENCE:3
DTSTAMP:20260422T010611Z
URL:https://business.backmountainchamber.org/events/details/misericordia-athletics-31st-annual-golf-tournament-760
END:VEVENT

END:VCALENDAR
