BEGIN:VCALENDAR
VERSION:2.0
PRODID:-//ChamberMaster//Event Calendar 2.0//EN
METHOD:PUBLISH
X-PUBLISHED-TTL:P3D
REFRESH-INTERVAL:P3D
CALSCALE:GREGORIAN
BEGIN:VEVENT
DTSTART:20190516T213000Z
DTEND:20190516T230000Z
X-MICROSOFT-CDO-ALLDAYEVENT:FALSE
SUMMARY:Mixer at Damien's on Harvey's Lake
DESCRIPTION:Let's Start The Summer with a Bash!\n\n \n\nMixer at Damien's on Harvey's Lake\n\n \n\nThursday\, May 16th\, 5:30 PM - 7:00 PM\n\n \n\nLocation: 31 Lakeside Dr\, Harvey's Lake\n\n \n\nSpotlight: Jonelle Dickson-Prokopchak\, Zen Barre \n\n&\n\nJosh Kaschenbach of Lakeway Beverage\n\n \n\nThe $1\,500 Party Room Raffle Will Be Drawn at the Mixer!
X-ALT-DESC;FMTTYPE=text/html:<div style="color: rgb(97\, 92\, 96)\; font-family: Arial\, Verdana\, Helvetica\, sans-serif\; font-size: 14px\; white-space: pre-wrap\; background-color: rgb(255\, 255\, 255)\; text-align: center\;"><span new="" style="font-size: 26px\; color: rgb(51\, 51\, 51)\; font-family: " times="">Let&#39\;s Start The Summer with a Bash!</span></div>\n\n<div style="color: rgb(97\, 92\, 96)\; font-family: Arial\, Verdana\, Helvetica\, sans-serif\; font-size: 14px\; white-space: pre-wrap\; background-color: rgb(255\, 255\, 255)\; text-align: center\;">&nbsp\;</div>\n\n<div style="color: rgb(97\, 92\, 96)\; font-family: Arial\, Verdana\, Helvetica\, sans-serif\; font-size: 14px\; white-space: pre-wrap\; background-color: rgb(255\, 255\, 255)\; text-align: center\;"><span new="" style="font-size: 26px\; color: rgb(51\, 51\, 51)\; font-family: " times="">Mixer at Damien&#39\;s on Harvey&#39\;s Lake</span></div>\n\n<div style="color: rgb(97\, 92\, 96)\; font-family: Arial\, Verdana\, Helvetica\, sans-serif\; font-size: 14px\; white-space: pre-wrap\; background-color: rgb(255\, 255\, 255)\; text-align: center\;">&nbsp\;</div>\n\n<div style="color: rgb(97\, 92\, 96)\; font-family: Arial\, Verdana\, Helvetica\, sans-serif\; font-size: 14px\; white-space: pre-wrap\; background-color: rgb(255\, 255\, 255)\; text-align: center\;"><span new="" style="font-size: 26px\; color: rgb(51\, 51\, 51)\; font-family: " times="">Thursday\, May 16th\, 5:30 PM - 7:00 PM</span></div>\n\n<div style="color: rgb(97\, 92\, 96)\; font-family: Arial\, Verdana\, Helvetica\, sans-serif\; font-size: 14px\; white-space: pre-wrap\; background-color: rgb(255\, 255\, 255)\; text-align: center\;"><span new="" style="font-size: 26px\; color: rgb(51\, 51\, 51)\; font-family: " times="">&#65279\;</span></div>\n\n<div style="color: rgb(97\, 92\, 96)\; font-family: Arial\, Verdana\, Helvetica\, sans-serif\; font-size: 14px\; white-space: pre-wrap\; background-color: rgb(255\, 255\, 255)\; text-align: center\;"><span new="" style="font-size: 26px\; color: rgb(51\, 51\, 51)\; font-family: " times="">Location:&nbsp\;31 Lakeside Dr\, Harvey&#39\;s Lake</span></div>\n\n<div style="color: rgb(97\, 92\, 96)\; font-family: Arial\, Verdana\, Helvetica\, sans-serif\; font-size: 14px\; white-space: pre-wrap\; background-color: rgb(255\, 255\, 255)\; text-align: center\;">&nbsp\;</div>\n\n<div style="color: rgb(97\, 92\, 96)\; font-family: Arial\, Verdana\, Helvetica\, sans-serif\; font-size: 14px\; white-space: pre-wrap\; background-color: rgb(255\, 255\, 255)\; text-align: center\;"><span new="" style="font-size: 26px\; color: rgb(51\, 51\, 51)\; font-family: " times="">Spotlight: </span><span font-style:="" new="" style="font-size: 26px\; color: rgb(0\, 0\, 0)\; font-family: " times=""><span style="font-size:24px\;">Jonelle Dickson-Prokopchak</span>\, <span style="font-size:24px\;">Zen Barre&reg\;</span><br />\n<span style="font-size:20px\;">&amp\;</span><br />\n<span style="font-size:24px\;">Josh Kaschenbach of Lakeway Beverage</span></span></div>\n\n<div style="color: rgb(97\, 92\, 96)\; font-family: Arial\, Verdana\, Helvetica\, sans-serif\; font-size: 14px\; white-space: pre-wrap\; background-color: rgb(255\, 255\, 255)\; text-align: center\;">&nbsp\;</div>\n\n<div style="color: rgb(97\, 92\, 96)\; font-family: Arial\, Verdana\, Helvetica\, sans-serif\; font-size: 14px\; white-space: pre-wrap\; background-color: rgb(255\, 255\, 255)\; text-align: center\;"><span new="" style="font-size: 24px\; color: rgb(235\, 76\, 57)\; font-family: " times="">The $1\,500 Party Room Raffle Will Be Drawn at the Mixer!</span></div>\n
LOCATION:Damien's 31 Lakeside Dr\, Harvey's Lake\, PA 18618
UID:e.3296.121
SEQUENCE:3
DTSTAMP:20260424T184945Z
URL:https://business.backmountainchamber.org/events/details/mixer-at-damien-s-on-harvey-s-lake-05-17-2018-121
END:VEVENT

END:VCALENDAR
