BEGIN:VCALENDAR
VERSION:2.0
PRODID:-//ChamberMaster//Event Calendar 2.0//EN
METHOD:PUBLISH
X-PUBLISHED-TTL:P3D
REFRESH-INTERVAL:P3D
CALSCALE:GREGORIAN
BEGIN:VEVENT
DTSTART:20190601T170000Z
DTEND:20190601T190000Z
X-MICROSOFT-CDO-ALLDAYEVENT:FALSE
SUMMARY:Mixer at Three Guys Pizza\, Dallas
DESCRIPTION:The Back Mountain Chamber will be joining forces with us on this event to help grow bonds and support local businesses. \n\n \nThree Guys in Dallas\n\nSaturday\, June 1st from 1:00 pm - 3:00 pm on the patio\n\nAppetizers served and Cash Bar\n\n\nPlease join us for our monthly Zen Barre Community Social event at Three Guys Pizza on the patio. This event is open to all studio members & the public. We want to continue to get out in the Back Mountain and support other local businesses. This will be a fun event to meet new people and work on strengthening the bonds you have already made on your mat. \n\n\n\nNote this event is outside on the patio. A few appetizers will be available courtesy of the Zen Barre & the Back Mountain Chamber.
X-ALT-DESC;FMTTYPE=text/html:<span style="color: rgb(29\, 33\, 41)\; font-family: Helvetica\, Arial\, sans-serif\; font-size: 14px\; white-space: pre-wrap\; background-color: rgb(255\, 255\, 255)\;">The Back Mountain Chamber will be joining forces with us on this event to help grow bonds and support local businesses. </span><br />\n&nbsp\;\n<div style="text-align: center\;"><span style="color: rgb(29\, 33\, 41)\; font-family: Helvetica\, Arial\, sans-serif\; font-size: 14px\; white-space: pre-wrap\; background-color: rgb(255\, 255\, 255)\;">Three Guys in Dallas<br />\nSaturday\, June 1st from 1:00 pm - 3:00 pm on the patio<br />\nAppetizers served and Cash Bar</span></div>\n<br style="color: rgb(29\, 33\, 41)\; font-family: Helvetica\, Arial\, sans-serif\; font-size: 14px\; white-space: pre-wrap\; background-color: rgb(255\, 255\, 255)\;" />\n<span style="color: rgb(29\, 33\, 41)\; font-family: Helvetica\, Arial\, sans-serif\; font-size: 14px\; white-space: pre-wrap\; background-color: rgb(255\, 255\, 255)\;">Please join us for our monthly Zen Barre Community Social event at Three Guys Pizza on the patio. This event is open to all studio members &amp\; the public. We want to continue to get out in the Back Mountain and support other local businesses. This will be a fun event to meet new people and work on strengthening the bonds you have already made on your mat. </span><br style="color: rgb(29\, 33\, 41)\; font-family: Helvetica\, Arial\, sans-serif\; font-size: 14px\; white-space: pre-wrap\; background-color: rgb(255\, 255\, 255)\;" />\n<br style="color: rgb(29\, 33\, 41)\; font-family: Helvetica\, Arial\, sans-serif\; font-size: 14px\; white-space: pre-wrap\; background-color: rgb(255\, 255\, 255)\;" />\n<em><span style="color: rgb(29\, 33\, 41)\; font-family: Helvetica\, Arial\, sans-serif\; font-size: 14px\; white-space: pre-wrap\; background-color: rgb(255\, 255\, 255)\;">Note this event is outside on the patio. </span><span style="color: rgb(29\, 33\, 41)\; font-family: Helvetica\, Arial\, sans-serif\; font-size: 14px\; white-space: pre-wrap\; background-color: rgb(255\, 255\, 255)\;">A few appetizers will be available courtesy of the Zen Barre &amp\; the Back Mountain Chamber. </span></em>
LOCATION:Three Guys Pizza Dallas\, PA
UID:e.3296.231
SEQUENCE:3
DTSTAMP:20260424T172246Z
URL:https://business.backmountainchamber.org/events/details/mixer-at-three-guys-pizza-dallas-231
END:VEVENT

END:VCALENDAR
