BEGIN:VCALENDAR
VERSION:2.0
PRODID:-//ChamberMaster//Event Calendar 2.0//EN
METHOD:PUBLISH
X-PUBLISHED-TTL:P3D
REFRESH-INTERVAL:P3D
CALSCALE:GREGORIAN
BEGIN:VEVENT
DTSTART:20251206T150000Z
DTEND:20251206T173000Z
X-MICROSOFT-CDO-ALLDAYEVENT:FALSE
SUMMARY:Native Wreath Forage
DESCRIPTION:Join North Branch Land Trust for a morning of soft holiday songs\, a walk on a scenic trail where you can sustainably forage natural items to decorate your wreath with. Come back inside where warm beverages and sweet treats will greet you\, while you have time to talk with friends and decorate your wreath.
X-ALT-DESC;FMTTYPE=text/html:Join North Branch Land Trust for a morning of soft holiday songs\, a walk on a scenic trail where you can sustainably forage natural items to decorate your wreath with. Come back inside where warm beverages and sweet treats will greet you\, while you have time to talk with friends and decorate your wreath.
LOCATION:105 Lt Michael Cleary Drive\, Dallas\, PA. 18612
UID:e.3296.1145
SEQUENCE:3
DTSTAMP:20260423T045926Z
URL:https://business.backmountainchamber.org/events/details/native-wreath-forage-1145
END:VEVENT

END:VCALENDAR
