BEGIN:VCALENDAR
VERSION:2.0
PRODID:-//ChamberMaster//Event Calendar 2.0//EN
METHOD:PUBLISH
X-PUBLISHED-TTL:P3D
REFRESH-INTERVAL:P3D
CALSCALE:GREGORIAN
BEGIN:VEVENT
DTSTART:20251213T150000Z
DTEND:20251213T163000Z
X-MICROSOFT-CDO-ALLDAYEVENT:FALSE
SUMMARY:Nature Ornament Decorating
DESCRIPTION:It's that time of year\, come join North Branch Land Trust at Abide Coffeehouse to paint a nature themed ornament   perfect for a holiday gift or home decor! Follow a step-by-step nature painting by local artist Abigail Domoracki.
X-ALT-DESC;FMTTYPE=text/html:It&rsquo\;s that time of year\, come join North Branch Land Trust at Abide Coffeehouse to paint a nature themed ornament &ndash\; perfect for a holiday gift or home decor! Follow a step-by-step nature painting by local artist Abigail Domoracki.
LOCATION:Abide Coffeehouse
UID:e.3296.1156
SEQUENCE:3
DTSTAMP:20260423T050021Z
URL:https://business.backmountainchamber.org/events/details/nature-ornament-decorating-1156
END:VEVENT

END:VCALENDAR
