BEGIN:VCALENDAR
VERSION:2.0
PRODID:-//ChamberMaster//Event Calendar 2.0//EN
METHOD:PUBLISH
X-PUBLISHED-TTL:P3D
REFRESH-INTERVAL:P3D
CALSCALE:GREGORIAN
BEGIN:VEVENT
DTSTART:20251118T233000Z
DTEND:20251119T013000Z
X-MICROSOFT-CDO-ALLDAYEVENT:FALSE
SUMMARY:Nature Trivia Night
DESCRIPTION:Test your natural history\, natural sciences\, and conservation knowledge by attending North Branch Land Trust's Nature Trivia Night! If you know PA's state tree\, you could be a winner! Grab your family and friends for a night of nature fun.
X-ALT-DESC;FMTTYPE=text/html:Test your natural history\, natural sciences\, and conservation knowledge by attending North Branch Land Trust&#39\;s Nature Trivia Night! If you know PA&#39\;s state tree\, you could be a winner! Grab your family and friends for a night of nature fun.
LOCATION:American Legion Mountain Top Post 781
UID:e.3296.1144
SEQUENCE:3
DTSTAMP:20260423T033250Z
URL:https://business.backmountainchamber.org/events/details/nature-trivia-night-1144
END:VEVENT

END:VCALENDAR
