BEGIN:VCALENDAR
VERSION:2.0
PRODID:-//ChamberMaster//Event Calendar 2.0//EN
METHOD:PUBLISH
X-PUBLISHED-TTL:P3D
REFRESH-INTERVAL:P3D
CALSCALE:GREGORIAN
BEGIN:VEVENT
DTSTART:20251011T150000Z
DTEND:20251011T163000Z
X-MICROSOFT-CDO-ALLDAYEVENT:FALSE
SUMMARY:Nature Within A City
DESCRIPTION:Children and family will take note that nature is all around us\, always. What will you see?
X-ALT-DESC;FMTTYPE=text/html:Children and family will take note that nature is all around us\, always. What will you see?
LOCATION:Pittston Riverfront Park
UID:e.3296.1142
SEQUENCE:3
DTSTAMP:20260423T021231Z
URL:https://business.backmountainchamber.org/events/details/nature-within-a-city-1142
END:VEVENT

END:VCALENDAR
