BEGIN:VCALENDAR
VERSION:2.0
PRODID:-//ChamberMaster//Event Calendar 2.0//EN
METHOD:PUBLISH
X-PUBLISHED-TTL:P3D
REFRESH-INTERVAL:P3D
CALSCALE:GREGORIAN
BEGIN:VEVENT
DTSTART:20190516T213000Z
DTEND:20190517T010000Z
X-MICROSOFT-CDO-ALLDAYEVENT:FALSE
SUMMARY:NBLT 20th Annual Dinner & Auctions
DESCRIPTION:Celebrate North Branch Land Trust's 20th Annual Dinner and Auctions. Special honorees are Senator Lisa Baker and Senator John Yudichak. This event is one of the most popular events in the region. During the cocktail hour\, guests will be able to bid on items in our distinctive silent auction. From artwork\, photography\, and days at the Spa\, to recreational outdoor gear\, and special gift baskets and certificates\, there will be something of interest for everyone. At 7:00 PM guests will be seated in the garden tent for a fabulous dinner followed by a special live auction. Open bar 5:30-9:00pm
X-ALT-DESC;FMTTYPE=text/html:Celebrate North Branch Land Trust&#39\;s 20th Annual Dinner and Auctions. Special honorees are Senator Lisa Baker and Senator John Yudichak. This event is one of the most popular events in the region. During the cocktail hour\, guests will be able to bid on items in our distinctive silent auction. From artwork\, photography\, and days at the Spa\, to recreational outdoor gear\, and special gift baskets and certificates\, there will be something of interest for everyone. At 7:00 PM guests will be seated in the garden tent for a fabulous dinner followed by a special live auction. Open bar 5:30-9:00pm
LOCATION:The Westmoreland Club
UID:e.3296.199
SEQUENCE:3
DTSTAMP:20260424T183524Z
URL:https://business.backmountainchamber.org/events/details/nblt-20th-annual-dinner-auctions-199
END:VEVENT

END:VCALENDAR
