BEGIN:VCALENDAR
VERSION:2.0
PRODID:-//ChamberMaster//Event Calendar 2.0//EN
METHOD:PUBLISH
X-PUBLISHED-TTL:P3D
REFRESH-INTERVAL:P3D
CALSCALE:GREGORIAN
BEGIN:VEVENT
DTSTART:20250312T220000Z
DTEND:20250313T000000Z
X-MICROSOFT-CDO-ALLDAYEVENT:FALSE
SUMMARY:NBLT Open House
DESCRIPTION:As part of our new Strategic Plan\, North Branch Land Trust is hosting an open house event in Wyoming County where we actively conserve land. People attending these informal\, informational open house gatherings will have the opportunity to learn about many aspects of the Land Trust\, including: The process for property owners to conserve and protect their own land. Details on significant property the Land Trust has transferred to regional partners including what is now Vosburg Neck State Park and the Wanamie Tract and Montage Tract in the Pinchot State Forest. Sanctuaries and preserves the Land Trust owns and maintains for public use. Updates on ongoing projects that will become trails for public use. How the Land Trust's mission and work improves our lives and region through conservation and stewardship of the places we hold dear. and more!
X-ALT-DESC;FMTTYPE=text/html:As part of our new Strategic Plan\, North Branch Land Trust is hosting an open house event in Wyoming County where we actively conserve land. People attending these informal\, informational open house gatherings will have the opportunity to learn about many aspects of the Land Trust\, including: The process for property owners to conserve and protect their own land. Details on significant property the Land Trust has transferred to regional partners including what is now Vosburg Neck State Park and the Wanamie Tract and Montage Tract in the Pinchot State Forest. Sanctuaries and preserves the Land Trust owns and maintains for public use. Updates on ongoing projects that will become trails for public use. How the Land Trust&rsquo\;s mission and work improves our lives and region through conservation and stewardship of the places we hold dear. and more!
LOCATION:Nimble Hill Winery & Brewery\, 3971 US-6\, Tunkhannock
UID:e.3296.1076
SEQUENCE:3
DTSTAMP:20260422T162957Z
URL:https://business.backmountainchamber.org/events/details/nblt-open-house-1076
END:VEVENT

END:VCALENDAR
