BEGIN:VCALENDAR
VERSION:2.0
PRODID:-//ChamberMaster//Event Calendar 2.0//EN
METHOD:PUBLISH
X-PUBLISHED-TTL:P3D
REFRESH-INTERVAL:P3D
CALSCALE:GREGORIAN
BEGIN:VEVENT
DTSTART:20220625T230000Z
DTEND:20220626T030000Z
X-MICROSOFT-CDO-ALLDAYEVENT:FALSE
SUMMARY:NEPA PrideFest Royale 2022
DESCRIPTION:Please join us for the annual NEPA PrideFest Royale Pageant\, a regional drag competition\, on Saturday\, June 25 at 7:00 PM at the Hilton Scranton & Conference Center! NEW THIS YEAR! There will only be one title. We have renamed our pageant from the Mr. and Miss PrideFest Pageant to the NEPA PrideFest Royale Pageant in an effort to be more inclusive of all identities! Contestants will compete for each title across three categories (Pride attire\, On-Stage Q&A\, and Talent) to prove they have the excellence to be the face of Pride in Northeastern Pennsylvania.
X-ALT-DESC;FMTTYPE=text/html:Please join us for the annual NEPA PrideFest Royale Pageant\, a regional drag competition\, on Saturday\, June 25 at 7:00 PM at the Hilton Scranton &amp\; Conference Center! NEW THIS YEAR! There will only be one title. We have renamed our pageant from the Mr. and Miss PrideFest Pageant to the NEPA PrideFest Royale Pageant in an effort to be more inclusive of all identities! Contestants will compete for each title across three categories (Pride attire\, On-Stage Q&amp\;A\, and Talent) to prove they have the excellence to be the face of Pride in Northeastern Pennsylvania.
LOCATION:Hilton Scranton Hotel and Conference Center
UID:e.3296.752
SEQUENCE:3
DTSTAMP:20260422T051055Z
URL:https://business.backmountainchamber.org/events/details/nepa-pridefest-royale-2022-752
END:VEVENT

END:VCALENDAR
