BEGIN:VCALENDAR
VERSION:2.0
PRODID:-//ChamberMaster//Event Calendar 2.0//EN
METHOD:PUBLISH
X-PUBLISHED-TTL:P3D
REFRESH-INTERVAL:P3D
CALSCALE:GREGORIAN
BEGIN:VEVENT
DTSTART;VALUE=DATE:20200326
DTEND;VALUE=DATE:20200425
TRANSP:TRANSPARENT
X-MICROSOFT-CDO-ALLDAYEVENT:TRUE
SUMMARY:Pay It Forward Contest Sponsored by FNCB Bank
DESCRIPTION:This contest will start on Thursday\, March 26 and run until Friday\, April 24. A total of thirty-two $25 gift cards will be up for grabs. Thanks to FNCB Bank for making this contest possible!\n\n\n\nEvery Friday (starting on April 3)\, we'll randomly select eight winners to win a $25 gift card from a Back Mountain Chamber member of their choice!\n\n\n\nHere's what to do.\n\nMake any type of purchase or payment at a Back Mountain Chamber member.\n\n \n\nEmail team@backmountainchamber.org with your name and phone number\, and include one of the following:\n\n\n	A photo or screenshot of your receipt or a photo of your food or product purchased from a local Back Mountain Chamber member showing a purchase\, online order or payment for a service starting Thursday\, March 26\, 2020. Please note: To be entered in the contest\, we only need to see the business name and date of purchase/payment. Please block out any additional or personal information including account numbers or amount paid. You can certainly include yourself in a photo if you like\, but PLEASE do not photograph any delivery drivers or business staff with you as to maintain appropriate social distancing!\n\n\nOR\n\n \n\nTag the Back Mountain Chamber in a social media post that showcases your purchase from a Back Mountain Chamber member.\n\n \n\nEvery transaction/post counts as its own entry\, so please email and tag separately for separate transactions/posts to be considered. Enter as many times as you like!\n\n \n\nThere is no minimum purchase amount for an entry to be eligible.\n\n \n\nIf you purchase something from a local Chamber member business and are unable to email us a photo or screenshot to verify the purchase\, the business owner can certainly drop us a note to let us know that you did. We are happy to consider any entries this way\, as we do understand that not everyone has the option for online ordering/sales. As long as any message without a photo comes to us directly from the business owner\, we're all good!\n\n \n\nIf you win\, you don't even have to worry about leaving the house to pick up your prize! Our Chamber team will work directly with the member business of your choice to ensure your gift card is mailed to you safely or a $25 credit is applied to your account. Please note\, any winnings cannot be applied to a Back Mountain Chamber membership.\n\n \n\nWe are especially grateful to FNCB Bank for the sponsorship that has made this effort possible.\n\n \n\nBy entering this contest\, individuals grant permission to the Back Mountain Chamber to share their photos and first names in promotional messages\, social media\, emails\, etc. Winners will be randomly selected from qualifying entries. Back Mountain Chamber reserves the right to cancel or modify this contest at any time for any reason.
X-ALT-DESC;FMTTYPE=text/html:<div align="left" style="color: rgb(46\, 47\, 47)\; font-family: Verdana\, Geneva\, sans-serif\; font-size: 14px\;"><span style="color: rgb(46\, 47\, 47)\; font-family: Verdana\, Geneva\, sans-serif\; font-size: 14px\;"><span style="font-family: arial\;">This contest will start on Thursday\, March 26 and run until Friday\, April 24. A total of thirty-two $25 gift cards will be up for grabs.&nbsp\;<a href="http://www.fncb.com">Thanks to FNCB Bank for making this contest possible!</a></span></span><br style="color: rgb(46\, 47\, 47)\; font-family: Verdana\, Geneva\, sans-serif\; font-size: 14px\;" />\n<br />\n<span style="font-size:14px\;"><span style="font-family:arial\;">Every Friday (starting on April 3)\, we&rsquo\;ll randomly select eight winners to win a $25 gift card from a Back Mountain Chamber member of their choice!</span></span><br />\n<br />\n<span style="font-size: 18px\; color: rgb(0\, 0\, 0)\; text-decoration-line: underline\; font-weight: bold\; font-family: Arial\, Verdana\, Helvetica\, sans-serif\;">Here&rsquo\;s what to do.</span></div>\n\n<div align="left" style="color: rgb(46\, 47\, 47)\; font-family: Verdana\, Geneva\, sans-serif\; font-size: 14px\;"><span style="color: rgb(0\, 0\, 0)\; font-family: Arial\, Verdana\, Helvetica\, sans-serif\;">Make any type of purchase or payment at a Back Mountain Chamber member.</span></div>\n\n<div align="left" style="color: rgb(46\, 47\, 47)\; font-family: Verdana\, Geneva\, sans-serif\; font-size: 14px\;">&nbsp\;</div>\n\n<div align="left" style="color: rgb(46\, 47\, 47)\; font-family: Verdana\, Geneva\, sans-serif\; font-size: 14px\;"><span style="color: rgb(0\, 0\, 0)\; font-weight: bold\; font-family: Arial\, Verdana\, Helvetica\, sans-serif\;">Email&nbsp\;</span><a href="mailto:team@backmountainchamber.org" style="color: rgb(0\, 0\, 0)\; font-weight: bold\; font-family: Arial\, Verdana\, Helvetica\, sans-serif\; text-decoration-line: none\;" target="_blank">team@backmountainchamber.org</a><span style="color: rgb(0\, 0\, 0)\; font-family: Arial\, Verdana\, Helvetica\, sans-serif\;">&nbsp\;with your name and phone number\, and include one of the following:</span></div>\n\n<ul style="color: rgb(46\, 47\, 47)\; font-family: Verdana\, Geneva\, sans-serif\; font-size: 14px\; text-align: center\;">\n	<li style="margin-left: 15px\; color: rgb(0\, 0\, 0)\; text-align: left\;"><span style="font-weight: bold\; font-family: Arial\, Verdana\, Helvetica\, sans-serif\;">A photo or screenshot of your&nbsp\;</span><span style="font-weight: bold\; font-family: Arial\, Verdana\, Helvetica\, sans-serif\; text-decoration-line: underline\;">receipt</span><span style="color: rgb(0\, 0\, 0)\; font-size: 14px\; font-weight: bold\; font-family: Arial\, Verdana\, Helvetica\, sans-serif\;">&nbsp\;or a photo of your&nbsp\;</span><span style="color: rgb(0\, 0\, 0)\; font-size: 14px\; text-decoration-line: underline\; font-weight: bold\; font-family: Arial\, Verdana\, Helvetica\, sans-serif\;">food</span><span style="color: rgb(0\, 0\, 0)\; font-size: 14px\; font-weight: bold\; font-family: Arial\, Verdana\, Helvetica\, sans-serif\;">&nbsp\;or&nbsp\;</span><span style="color: rgb(0\, 0\, 0)\; font-size: 14px\; text-decoration-line: underline\; font-weight: bold\; font-family: Arial\, Verdana\, Helvetica\, sans-serif\;">product</span><span style="color: rgb(0\, 0\, 0)\; font-size: 14px\; font-weight: bold\; font-family: Arial\, Verdana\, Helvetica\, sans-serif\;">&nbsp\;purchased&nbsp\;</span><span style="font-family: Arial\, Verdana\, Helvetica\, sans-serif\;">from a local Back Mountain Chamber member&nbsp\;showing a purchase\, online order or payment for a service starting Thursday\, March 26\, 2020. Please note: To be entered in the contest\, we only need to see the business name and date of purchase/payment. Please block out any additional or personal information including account numbers or amount paid.&nbsp\;<span style="font-family: Arial\, Verdana\, Helvetica\, sans-serif\;">You can certainly include yourself in a photo if you like\, but PLEASE do not photograph any delivery drivers or business staff with you as to maintain appropriate social distancing!</span></span></li>\n</ul>\n\n<div align="left" style="color: rgb(46\, 47\, 47)\; font-family: Verdana\, Geneva\, sans-serif\; font-size: 14px\;"><span style="font-weight: bold\; font-family: Arial\, Verdana\, Helvetica\, sans-serif\;">OR</span></div>\n\n<div align="left" style="color: rgb(46\, 47\, 47)\; font-family: Verdana\, Geneva\, sans-serif\; font-size: 14px\;">&nbsp\;</div>\n\n<div align="left" style="color: rgb(46\, 47\, 47)\; font-family: Verdana\, Geneva\, sans-serif\; font-size: 14px\;"><span style="color: rgb(0\, 0\, 0)\; font-weight: bold\; font-family: Arial\, Verdana\, Helvetica\, sans-serif\;">Tag the Back Mountain Chamber in a social media post</span><span style="font-size: 15px\; color: rgb(0\, 0\, 0)\; font-family: Arial\, Verdana\, Helvetica\, sans-serif\;">&nbsp\;that showcases your purchase from a Back Mountain Chamber member.</span></div>\n\n<div align="left" style="color: rgb(46\, 47\, 47)\; font-family: Verdana\, Geneva\, sans-serif\; font-size: 14px\;">&nbsp\;</div>\n\n<div align="left" style="color: rgb(46\, 47\, 47)\; font-family: Verdana\, Geneva\, sans-serif\; font-size: 14px\;"><span style="color: rgb(0\, 0\, 0)\; font-family: Arial\, Verdana\, Helvetica\, sans-serif\;">Every transaction/post counts as its own entry\, so please email and tag separately for separate transactions/posts to be considered.&nbsp\;</span><span style="font-size: 15px\; color: rgb(0\, 0\, 0)\; font-family: Arial\, Verdana\, Helvetica\, sans-serif\; font-weight: bold\;">Enter as many times as you like!</span></div>\n\n<div align="left" style="color: rgb(46\, 47\, 47)\; font-family: Verdana\, Geneva\, sans-serif\; font-size: 14px\;">&nbsp\;</div>\n\n<div align="left" style="color: rgb(46\, 47\, 47)\; font-family: Verdana\, Geneva\, sans-serif\; font-size: 14px\;"><span style="color: rgb(0\, 0\, 0)\; font-family: Arial\, Verdana\, Helvetica\, sans-serif\;">There is no minimum purchase amount for an entry to be eligible.</span></div>\n\n<div align="left" style="color: rgb(46\, 47\, 47)\; font-family: Verdana\, Geneva\, sans-serif\; font-size: 14px\;">&nbsp\;</div>\n\n<div align="left" style="color: rgb(46\, 47\, 47)\; font-family: Verdana\, Geneva\, sans-serif\; font-size: 14px\;"><span style="color: rgb(0\, 0\, 0)\; font-family: Arial\, Verdana\, Helvetica\, sans-serif\;">If you purchase something from a local Chamber member business and are unable to email us a photo or screenshot to verify the purchase\, the business owner can certainly drop us a note to let us know that you did. We are happy to consider any entries this way\, as we do understand that not everyone has the option for online ordering/sales. As long as any message without a photo comes to us directly from the business owner\, we&rsquo\;re all good!</span></div>\n\n<div align="left" style="color: rgb(46\, 47\, 47)\; font-family: Verdana\, Geneva\, sans-serif\; font-size: 14px\;">&nbsp\;</div>\n\n<div align="left" style="color: rgb(46\, 47\, 47)\; font-family: Verdana\, Geneva\, sans-serif\; font-size: 14px\;"><span style="color: rgb(0\, 0\, 0)\; font-family: Arial\, Verdana\, Helvetica\, sans-serif\;">If you win\, you don&rsquo\;t even have to worry about leaving the house to pick up your prize! Our Chamber team will work directly with the member business of your choice to ensure your gift card is mailed to you safely or a $25 credit is applied to your account. Please note\, any winnings cannot be applied to a Back Mountain Chamber membership.</span></div>\n\n<div align="left" style="color: rgb(46\, 47\, 47)\; font-family: Verdana\, Geneva\, sans-serif\; font-size: 14px\;">&nbsp\;</div>\n\n<div align="left" style="color: rgb(46\, 47\, 47)\; font-family: Verdana\, Geneva\, sans-serif\; font-size: 14px\;"><a data-saferedirecturl="https://www.google.com/url?q=https://www.fncb.com/&amp\;source=gmail&amp\;ust=1585307585484000&amp\;usg=AFQjCNGvWnWfdCi8pEDadRhOddSOmrTbYA" href="https://www.fncb.com/" style="color: rgb(0\, 0\, 0)\; font-size: 18px\; font-weight: bold\; font-family: Arial\, Verdana\, Helvetica\, sans-serif\;" target="_blank">We are especially grateful to FNCB Bank for the sponsorship that has made this effort possible.</a></div>\n\n<div align="left" style="color: rgb(46\, 47\, 47)\; font-family: Verdana\, Geneva\, sans-serif\; font-size: 14px\;">&nbsp\;</div>\n\n<div align="left" style="color: rgb(46\, 47\, 47)\; font-family: Verdana\, Geneva\, sans-serif\; font-size: 14px\;"><span style="font-size:14px\;"><span style="font-family:arial\;"><span style="color: rgb(18\, 19\, 19)\; text-align: center\; white-space: pre-wrap\;">By entering this contest\, individuals grant permission to the Back Mountain Chamber to share their photos and first names in promotional messages\, social media\, emails\, etc. Winners will be randomly selected from qualifying entries. Back Mountain Chamber reserves the right to cancel or modify this contest at any time for any reason.</span></span></span></div>\n
LOCATION:
UID:e.3296.311
SEQUENCE:3
DTSTAMP:20260424T022833Z
URL:https://business.backmountainchamber.org/events/details/pay-it-forward-contest-sponsored-by-fncb-bank-311
END:VEVENT

END:VCALENDAR
