BEGIN:VCALENDAR
VERSION:2.0
PRODID:-//ChamberMaster//Event Calendar 2.0//EN
METHOD:PUBLISH
X-PUBLISHED-TTL:P3D
REFRESH-INTERVAL:P3D
CALSCALE:GREGORIAN
BEGIN:VEVENT
DTSTART:20200201T140000Z
DTEND:20200201T220000Z
X-MICROSOFT-CDO-ALLDAYEVENT:FALSE
SUMMARY:Penn State AutoCAD Level 1 Training Program
DESCRIPTION:In this hands-on computer aided design course\, participants will be provided with an introduction to display commands\, CAD tools\, basic draw commands\, basic edit commands\, layers\, CAD construction techniques\, creating text\, block and drawing import options\, dimensions\, crosshatching\, grips\, introduction to layouts\, and plotting basics. Participants will acquire the fundamental skills necessary for the development of mechanical\, architectural\, and/or civil drawings using AutoCAD.
X-ALT-DESC;FMTTYPE=text/html:In this hands-on computer aided design course\, participants will be provided with an introduction to display commands\, CAD tools\, basic draw commands\, basic edit commands\, layers\, CAD construction techniques\, creating text\, block and drawing import options\, dimensions\, crosshatching\, grips\, introduction to layouts\, and plotting basics. Participants will acquire the fundamental skills necessary for the development of mechanical\, architectural\, and/or civil drawings using AutoCAD.
LOCATION:Penn State Wilkes-Barre Campus 44 University Drive Dallas\,PA 18612
UID:e.3296.291
SEQUENCE:3
DTSTAMP:20260424T052122Z
URL:https://business.backmountainchamber.org/events/details/penn-state-autocad-level-1-training-program-291
END:VEVENT

END:VCALENDAR
