BEGIN:VCALENDAR
VERSION:2.0
PRODID:-//ChamberMaster//Event Calendar 2.0//EN
METHOD:PUBLISH
X-PUBLISHED-TTL:P3D
REFRESH-INTERVAL:P3D
CALSCALE:GREGORIAN
BEGIN:VEVENT
DTSTART:20191123T140000Z
DTEND:20191123T210000Z
X-MICROSOFT-CDO-ALLDAYEVENT:FALSE
SUMMARY:Penn State Certified Family Recovery Specialist Program
DESCRIPTION:Family recovery is a highly individualized journey that provides a unique perspective regarding the recovery process. A CFRS understands the stigma associated with substance use disorder and its impact on the family. The Certified Family Recovery Specialist (CFRS) credential is for adults who have been directly impacted by another person's substance use disorder. Participants will receive education in Family Recovery and Restoration\, as well\, as Healing and Stigma of Addiction.
X-ALT-DESC;FMTTYPE=text/html:Family recovery is a highly individualized journey that provides a unique perspective regarding the recovery process. A CFRS understands the stigma associated with substance use disorder and its impact on the family. The Certified Family Recovery Specialist (CFRS) credential is for adults who have been directly impacted by another person&#39\;s substance use disorder. Participants will receive education in Family Recovery and Restoration\, as well\, as Healing and Stigma of Addiction.
LOCATION:Penn State Wilkes-Barre Dallas\, PA
UID:e.3296.285
SEQUENCE:3
DTSTAMP:20260424T110822Z
URL:https://business.backmountainchamber.org/events/details/penn-state-certified-family-recovery-specialist-program-285
END:VEVENT

END:VCALENDAR
