BEGIN:VCALENDAR
VERSION:2.0
PRODID:-//ChamberMaster//Event Calendar 2.0//EN
METHOD:PUBLISH
X-PUBLISHED-TTL:P3D
REFRESH-INTERVAL:P3D
CALSCALE:GREGORIAN
BEGIN:VEVENT
DTSTART:20200125T140000Z
DTEND:20200125T210000Z
X-MICROSOFT-CDO-ALLDAYEVENT:FALSE
SUMMARY:Penn State Certified Recovery Specialist Training
DESCRIPTION:This 54-hour Certified Recovery Specialist is a Peer Support position formally recognized by the Pennsylvania Certification Board. Participants will receive education in Recovery Management\, Education & Advocacy\, Professional Ethics\, Confidentiality and Addictions.
X-ALT-DESC;FMTTYPE=text/html:This 54-hour Certified Recovery Specialist is a Peer Support position formally recognized by the Pennsylvania Certification Board. Participants will receive education in Recovery Management\, Education &amp\; Advocacy\, Professional Ethics\, Confidentiality and Addictions.
LOCATION:Penn State Wilkes-Barre Campus 44 University Drive Dallas\, PA 18612
UID:e.3296.289
SEQUENCE:3
DTSTAMP:20260424T065814Z
URL:https://business.backmountainchamber.org/events/details/penn-state-certified-recovery-specialist-training-289
END:VEVENT

END:VCALENDAR
