BEGIN:VCALENDAR
VERSION:2.0
PRODID:-//ChamberMaster//Event Calendar 2.0//EN
METHOD:PUBLISH
X-PUBLISHED-TTL:P3D
REFRESH-INTERVAL:P3D
CALSCALE:GREGORIAN
BEGIN:VEVENT
DTSTART:20200108T230000Z
DTEND:20200109T020000Z
X-MICROSOFT-CDO-ALLDAYEVENT:FALSE
SUMMARY:Penn State Project Management Certificate Program
DESCRIPTION:This program of four courses meets the 35-hour education requirement to sit for the Project Management Institute's PMP  exam. Our program is designed for participants who are interested in pursuing Project Management expertise by understanding the basics of project management terminology\, and how to set realistic expectations with project teams\, build schedules\, allocate resources\, lead change\, and manage budgets. PMP  certification is a proven way to enhance your r sum \, elevate your career potential\, and boost your earnings.
X-ALT-DESC;FMTTYPE=text/html:This program of four courses meets the 35-hour education requirement to sit for the Project Management Institute&rsquo\;s PMP&reg\; exam. Our program is designed for participants who are interested in pursuing Project Management expertise by understanding the basics of project management terminology\, and how to set realistic expectations with project teams\, build schedules\, allocate resources\, lead change\, and manage budgets. PMP&reg\; certification is a proven way to enhance your r&eacute\;sum&eacute\;\, elevate your career potential\, and boost your earnings.
LOCATION:Participants can attend from home or office\, using Zoom video-conferencing desktop software (free)
UID:e.3296.290
SEQUENCE:3
DTSTAMP:20260424T080755Z
URL:https://business.backmountainchamber.org/events/details/penn-state-project-management-certificate-program-290
END:VEVENT

END:VCALENDAR
