BEGIN:VCALENDAR
VERSION:2.0
PRODID:-//ChamberMaster//Event Calendar 2.0//EN
METHOD:PUBLISH
X-PUBLISHED-TTL:P3D
REFRESH-INTERVAL:P3D
CALSCALE:GREGORIAN
BEGIN:VEVENT
DTSTART:20200324T210000Z
DTEND:20200325T000000Z
X-MICROSOFT-CDO-ALLDAYEVENT:FALSE
SUMMARY:Penn State Spanish in the Workplace II
DESCRIPTION:This course will offer Spanish for the workplace to facilitate basic communication with employees or clients whose native language is Spanish. Emphasis is placed on oral communication and specific vocabulary used in a business context. Written and oral practice is provided to exercise the ability to find and communicate information of daily transactions
X-ALT-DESC;FMTTYPE=text/html:This course will offer Spanish for the workplace to facilitate basic communication with employees or clients whose native language is Spanish. Emphasis is placed on oral communication and specific vocabulary used in a business context. Written and oral practice is provided to exercise the ability to find and communicate information of daily transactions
LOCATION:Wilkes-Barre Think Center and via Zoom
UID:e.3296.295
SEQUENCE:3
DTSTAMP:20260424T051804Z
URL:https://business.backmountainchamber.org/events/details/penn-state-spanish-in-the-workplace-ii-295
END:VEVENT

END:VCALENDAR
