BEGIN:VCALENDAR
VERSION:2.0
PRODID:-//ChamberMaster//Event Calendar 2.0//EN
METHOD:PUBLISH
X-PUBLISHED-TTL:P3D
REFRESH-INTERVAL:P3D
CALSCALE:GREGORIAN
BEGIN:VEVENT
DTSTART;VALUE=DATE:20191012
DTEND;VALUE=DATE:20191013
TRANSP:TRANSPARENT
X-MICROSOFT-CDO-ALLDAYEVENT:TRUE
SUMMARY:Penn State Watch Party with the Penn State Wilkes-Barre Alumni Society
DESCRIPTION:PENN STATE WATCH PARTY\n\nwith the Penn State Wilkes-Barre Alumni Society\n\nPSU vs. Iowa\n\n\n\n\n\nSaturday\, October 12th\n\nGame Time- TBA\n\nIrem Clubhouse: 64 Ridgway Drive Dallas\, PA 18612\n\n\n\n\n\nReservations requested by 10/10/19\n\nPlease call 570-674-2812
X-ALT-DESC;FMTTYPE=text/html:<span style="font-size:20px\;"><span style="color:#0000CD\;">&nbsp\;PENN STATE WATCH PARTY<br />\n<em>with the Penn State Wilkes-Barre Alumni Society</em></span><br />\n<span style="color:#0000CD\;"><strong>PSU vs. Iowa</strong></span></span><br />\n<br />\n<br />\n<span style="color:#0000CD\;"><span style="font-size:16px\;">Saturday\, October 12th<br />\nGame Time- TBA<br />\nIrem Clubhouse: 64 Ridgway Drive Dallas\, PA 18612</span><br />\n<br />\n<br />\n<span style="font-size:16px\;"><strong>Reservations requested by 10/10/19<br />\nPlease call 570-674-2812</strong></span></span>
LOCATION:Irem Clubhouse 64 Ridgway Drive Dallas\, PA 18612
UID:e.3296.267
SEQUENCE:3
DTSTAMP:20260424T111122Z
URL:https://business.backmountainchamber.org/events/details/penn-state-watch-party-with-the-penn-state-wilkes-barre-alumni-society-267
END:VEVENT

END:VCALENDAR
