BEGIN:VCALENDAR
VERSION:2.0
PRODID:-//ChamberMaster//Event Calendar 2.0//EN
METHOD:PUBLISH
X-PUBLISHED-TTL:P3D
REFRESH-INTERVAL:P3D
CALSCALE:GREGORIAN
BEGIN:VEVENT
DTSTART:20200422T120000Z
DTEND:20200422T133000Z
X-MICROSOFT-CDO-ALLDAYEVENT:FALSE
SUMMARY:POSTPONED: Breakfast at Huntsville Golf Club
DESCRIPTION:POSTPONED!\n\n\n\nChamber breakfast at Huntsville Golf Club\n\n\n\nGuests will enjoy a nutritionally balanced breakfast and an informative presentation by Mary Dragon from The Barn Nutrition and Fitness\, Dallas. This event is open to all members of the community.\n\n\n\n\n\nPlease keep updated on our social media if the status of this even changes.
X-ALT-DESC;FMTTYPE=text/html:<span style="font-family: Arial\, Helvetica\, sans-serif\; font-size: small\; background-color: rgb(255\, 255\, 255)\;"><span style="font-size:24px\;"><strong><span style="color:#FF0000\;">POSTPONED!</span></strong></span><br />\n<br />\nChamber breakfast at Huntsville Golf Club<br />\n<br />\nGuests will enjoy a nutritionally balanced breakfast and an&nbsp\;informative presentation&nbsp\;by Mary Dragon from The Barn Nutrition and Fitness\, Dallas. This event is open to all members of the community.</span><br />\n<br />\n<br />\n<strong>Please keep updated on our social media if the status of this even changes.</strong>
LOCATION:1334 Market St. Dallas\, PA 18612
UID:e.3296.299
SEQUENCE:3
DTSTAMP:20260424T023212Z
URL:https://business.backmountainchamber.org/events/details/postponed-breakfast-at-huntsville-golf-club-299
END:VEVENT

END:VCALENDAR
