BEGIN:VCALENDAR
VERSION:2.0
PRODID:-//ChamberMaster//Event Calendar 2.0//EN
METHOD:PUBLISH
X-PUBLISHED-TTL:P3D
REFRESH-INTERVAL:P3D
CALSCALE:GREGORIAN
BEGIN:VEVENT
DTSTART:20251025T160000Z
DTEND:20251025T180000Z
X-MICROSOFT-CDO-ALLDAYEVENT:FALSE
SUMMARY:Producers\, Consumers\, Decomposers\, Oh my!
DESCRIPTION:Children and families will learn more about the food chain\, before going on an informational nature walk. On this walk\, all children/families will play bingo to identify different producers\, consumers\, and decomposers. Every child leaves a winner!
X-ALT-DESC;FMTTYPE=text/html:Children and families will learn more about the food chain\, before going on an informational nature walk. On this walk\, all children/families will play bingo to identify different producers\, consumers\, and decomposers. Every child leaves a winner!
LOCATION:Vosgburg Neck State Park
UID:e.3296.1141
SEQUENCE:3
DTSTAMP:20260423T021625Z
URL:https://business.backmountainchamber.org/events/details/producers-consumers-decomposers-oh-my-1141
END:VEVENT

END:VCALENDAR
