BEGIN:VCALENDAR
VERSION:2.0
PRODID:-//ChamberMaster//Event Calendar 2.0//EN
METHOD:PUBLISH
X-PUBLISHED-TTL:P3D
REFRESH-INTERVAL:P3D
CALSCALE:GREGORIAN
BEGIN:VEVENT
DTSTART:20260301T160000Z
DTEND:20260301T180000Z
X-MICROSOFT-CDO-ALLDAYEVENT:FALSE
SUMMARY:Purim in candy land
DESCRIPTION:Step into a world of sweetness and celebration ??? Join us at the Friedman JCC for Purim in Candy Land   a joyful community Purim celebration filled with music\, hamantaschen making\, games\, pizza\, karaoke\, bingo\, and fun for all ages. Come in costume\, bring your friends\, and celebrate together in the sweetest way possible. Free and open to all! No registration required.
X-ALT-DESC;FMTTYPE=text/html:Step into a world of sweetness and celebration ??? Join us at the Friedman JCC for Purim in Candy Land &mdash\; a joyful community Purim celebration filled with music\, hamantaschen making\, games\, pizza\, karaoke\, bingo\, and fun for all ages. Come in costume\, bring your friends\, and celebrate together in the sweetest way possible. Free and open to all! No registration required.
LOCATION:451 Third Ave\, Kingston\, PA\, 18704
UID:e.3296.1195
SEQUENCE:3
DTSTAMP:20260423T110335Z
URL:https://business.backmountainchamber.org/events/details/purim-in-candy-land-1195
END:VEVENT

END:VCALENDAR
