BEGIN:VCALENDAR
VERSION:2.0
PRODID:-//ChamberMaster//Event Calendar 2.0//EN
METHOD:PUBLISH
X-PUBLISHED-TTL:P3D
REFRESH-INTERVAL:P3D
CALSCALE:GREGORIAN
BEGIN:VEVENT
DTSTART:20190618T210000Z
DTEND:20190619T000000Z
X-MICROSOFT-CDO-ALLDAYEVENT:FALSE
SUMMARY:Regional Summer Social
DESCRIPTION:The Regional Summer Social is the must attend event to kick off the summer in NEPA.  The Wyoming County\, Back Mountain & Wilkes-Barre Chambers of Commerce have worked with the wonderful staff at the Beaumont Inn to bring you an outdoor event with a delicious menu\, entertainment by Dymond Cutter\, and friends from throughout the region.  \n\n\n\nClick on link above to Register at Wyoming County Chamber website. Click you are not a member to register.
X-ALT-DESC;FMTTYPE=text/html:<span style="color: rgb(68\, 68\, 68)\; font-family: verdana\; font-size: 16px\; background-color: rgb(255\, 255\, 255)\;">The Regional Summer Social is the&nbsp\;</span><span style="box-sizing: border-box\; font-weight: bolder\; color: rgb(68\, 68\, 68)\; font-family: verdana\; font-size: 16px\; background-color: rgb(255\, 255\, 255)\;">must attend</span><span style="color: rgb(68\, 68\, 68)\; font-family: verdana\; font-size: 16px\; background-color: rgb(255\, 255\, 255)\;">&nbsp\;event to kick off the summer in NEPA.&nbsp\; The Wyoming County\, Back Mountain &amp\; Wilkes-Barre Chambers of Commerce have worked with the wonderful staff at the Beaumont Inn to bring you an outdoor event with a delicious menu\, entertainment by Dymond Cutter\, and friends from throughout the region.&nbsp\;&nbsp\;<br />\n<br />\n<strong><u>Click on link above to Register at Wyoming County Chamber website. Click you are not a member to register.</u></strong></span>
LOCATION:The Beaumont Inn 4437 PA 309 Dallas\, PA 18612
UID:e.3296.228
SEQUENCE:3
DTSTAMP:20260424T172218Z
URL:https://business.backmountainchamber.org/events/details/regional-summer-social-228
END:VEVENT

END:VCALENDAR
