BEGIN:VCALENDAR
VERSION:2.0
PRODID:-//ChamberMaster//Event Calendar 2.0//EN
METHOD:PUBLISH
X-PUBLISHED-TTL:P3D
REFRESH-INTERVAL:P3D
CALSCALE:GREGORIAN
BEGIN:VEVENT
DTSTART:20191029T210000Z
DTEND:20191029T230000Z
X-MICROSOFT-CDO-ALLDAYEVENT:FALSE
SUMMARY:Revive Med Spa Chamber Mixer
DESCRIPTION:Come celebrate and see the new Med Spa!\n\n\n\n\n\nWith a Chamber Mixer featuring product demo's\, tours\, food and beverages\n\n\n\nOctober 29thy 5-7PM\n\nAt: Revive MED SPA AT EYE CARE SPECIALIST\n\n703 Rutter Ave\, Ste 101\n\nKingston\, PA 18704\n\n\n\nNo RSVP necessary\n\nPlenty of networking\n\nBring a friend!
X-ALT-DESC;FMTTYPE=text/html:<br />\n<span style="font-size:22px\;">Come celebrate and see the new Med Spa!</span><br />\n<br />\n<br />\n<span style="font-size:18px\;"><span style="color: rgb(51\, 51\, 51)\; font-family: sans-serif\, Arial\, Verdana\, &quot\;Trebuchet MS&quot\;\; background-color: rgb(255\, 255\, 255)\;">With a&nbsp\;<u>Chamber Mixer</u> featuring product demo&#39\;s\, tours\, food and beverages</span><br />\n<br />\nOctober 29thy 5-7PM<br />\nAt:&nbsp\;</span><em style="color: rgb(51\, 51\, 51)\; font-family: sans-serif\, Arial\, Verdana\, &quot\;Trebuchet MS&quot\;\; font-size: 18px\; background-color: rgb(255\, 255\, 255)\;">Revive</em><span style="color: rgb(51\, 51\, 51)\; font-family: sans-serif\, Arial\, Verdana\, &quot\;Trebuchet MS&quot\;\; font-size: 18px\; background-color: rgb(255\, 255\, 255)\;">&nbsp\;MED&nbsp\;</span><strong style="color: rgb(51\, 51\, 51)\; font-family: sans-serif\, Arial\, Verdana\, &quot\;Trebuchet MS&quot\;\; font-size: 18px\; background-color: rgb(255\, 255\, 255)\;">SPA</strong><span style="color: rgb(51\, 51\, 51)\; font-family: sans-serif\, Arial\, Verdana\, &quot\;Trebuchet MS&quot\;\; font-size: 18px\; background-color: rgb(255\, 255\, 255)\;">&nbsp\;AT EYE CARE SPECIALIST</span><br />\n<span style="font-size:18px\;">703 Rutter Ave\, Ste 101<br />\nKingston\, PA 18704</span><br />\n<br />\nNo RSVP necessary<br />\nPlenty of networking<br />\nBring a friend!
LOCATION:703 Rutter Ave\, Ste 101 Kingston\, PA 18704
UID:e.3296.287
SEQUENCE:3
DTSTAMP:20260424T110730Z
URL:https://business.backmountainchamber.org/events/details/revive-med-spa-chamber-mixer-287
END:VEVENT

END:VCALENDAR
