BEGIN:VCALENDAR
VERSION:2.0
PRODID:-//ChamberMaster//Event Calendar 2.0//EN
METHOD:PUBLISH
X-PUBLISHED-TTL:P3D
REFRESH-INTERVAL:P3D
CALSCALE:GREGORIAN
BEGIN:VEVENT
DTSTART:20191024T210000Z
DTEND:20191025T000000Z
X-MICROSOFT-CDO-ALLDAYEVENT:FALSE
SUMMARY:Revive Med Spa Grand Opening
DESCRIPTION:Revive Med Spa Grand Opening at Eye Care Specialist \n\n\n\nOctober 24 5:00PM- 8:00 PM\n\n703 Rutter Ave\, Ste 101 \n\nKingston\, PA 18704 \n\n\n\nCall (570)664-7171 to RSVP
X-ALT-DESC;FMTTYPE=text/html:<br />\n<span style="font-size:18px\;"><strong><em><span style="font-family:verdana\;">Revive Med Spa Grand Opening at Eye Care Specialist&nbsp\;</span></em></strong></span><br />\n<br />\nOctober 24 5:00PM- 8:00 PM<br />\n703 Rutter Ave\, Ste 101&nbsp\;<br />\nKingston\, PA 18704&nbsp\;<br />\n<br />\n<strong>Call (570)664-7171 to RSVP</strong>
LOCATION:703 Rutter Ave\, Ste 101 Kingston\, PA 18704
UID:e.3296.266
SEQUENCE:3
DTSTAMP:20260424T122747Z
URL:https://business.backmountainchamber.org/events/details/revive-med-spa-grand-opening-266
END:VEVENT

END:VCALENDAR
