BEGIN:VCALENDAR
VERSION:2.0
PRODID:-//ChamberMaster//Event Calendar 2.0//EN
METHOD:PUBLISH
X-PUBLISHED-TTL:P3D
REFRESH-INTERVAL:P3D
CALSCALE:GREGORIAN
BEGIN:VEVENT
DTSTART:20190911T153000Z
DTEND:20190911T170000Z
X-MICROSOFT-CDO-ALLDAYEVENT:FALSE
SUMMARY:September Luncheon at The Beaumont Inn
DESCRIPTION:Join us for the September Luncheon!\n\nSeptember 11\, 2019\n\n11:30am - 1:00pm\n\nThe Beaumont Inn! \n\nMembers: $20\n\nNon-members: $30
X-ALT-DESC;FMTTYPE=text/html:<div style="text-align: center\;"><span style="color:#8B4513\;"><span style="font-size:18px\;"><span style="font-family:comic sans ms\;">Join us for the September Luncheon!</span></span></span><br />\n<span style="font-size:18px\;"><span style="color:#A52A2A\;">September 11\, 2019</span><br />\n<span style="color:#A52A2A\;">11:30am - 1:00pm</span></span><br />\n<span style="color:#B22222\;"><span style="font-size:18px\;">The Beaumont Inn!&nbsp\;</span></span><br />\n<span style="font-size:18px\;">Members: $20<br />\nNon-members: $30&nbsp\;</span></div>\n
LOCATION:The Beaumont Inn
UID:e.3296.208
SEQUENCE:3
DTSTAMP:20260424T123211Z
URL:https://business.backmountainchamber.org/events/details/september-luncheon-at-the-beaumont-inn-208
END:VEVENT

END:VCALENDAR
