BEGIN:VCALENDAR
VERSION:2.0
PRODID:-//ChamberMaster//Event Calendar 2.0//EN
METHOD:PUBLISH
X-PUBLISHED-TTL:P3D
REFRESH-INTERVAL:P3D
CALSCALE:GREGORIAN
BEGIN:VEVENT
DTSTART:20191005T160000Z
DTEND:20191005T220000Z
X-MICROSOFT-CDO-ALLDAYEVENT:FALSE
SUMMARY:Silver Springs Ranch Fall Festival
DESCRIPTION:Silver Springs Ranch Fall Festival\n\nSaturday\, October 5th \n\n12:00 PM - 6:00 PM\n\n\n\nSilver Springs Ranch\n\n567 Starhill Road\n\nHarveys Lake\, PA\n\n\n\n            To Benefit Luzerne County Child Advocacy Center\n\n\n\nFor more information visit: WWW.SILVERSPRINGSRANCH.NET
X-ALT-DESC;FMTTYPE=text/html:<span style="font-size:16px\;"><strong>Silver Springs Ranch Fall Festival</strong></span><br />\nSaturday\, October 5th&nbsp\;<br />\n12:00 PM - 6:00 PM<br />\n<br />\nSilver Springs Ranch<br />\n567 Starhill Road<br />\nHarveys Lake\, PA<br />\n<br />\n&nbsp\; &nbsp\; &nbsp\; &nbsp\; &nbsp\; &nbsp\; To Benefit Luzerne County Child Advocacy Center<br />\n<br />\nFor more information visit: WWW.SILVERSPRINGSRANCH.NET
LOCATION:Silver Springs Ranch 567 Starhill Road Harveys Lake\, PA
UID:e.3296.260
SEQUENCE:3
DTSTAMP:20260424T110731Z
URL:https://business.backmountainchamber.org/events/details/silver-springs-ranch-fall-festival-260
END:VEVENT

END:VCALENDAR
