BEGIN:VCALENDAR
VERSION:2.0
PRODID:-//ChamberMaster//Event Calendar 2.0//EN
METHOD:PUBLISH
X-PUBLISHED-TTL:P3D
REFRESH-INTERVAL:P3D
CALSCALE:GREGORIAN
BEGIN:VEVENT
DTSTART:20190910T130000Z
DTEND:20191015T200000Z
X-MICROSOFT-CDO-ALLDAYEVENT:FALSE
SUMMARY:Sue Hand's "Susquehanna Song" A Friedman Art Gallery Exhibit
DESCRIPTION:Imagine holding a paintbrush in one hand and a canoe paddle in the other as you journey through the North Branch of The Susquehanna River while creating an epic\, 300-piece series entitled\, "Susquehanna Song"\n\n\n\nA selection of local Dallas\, PA artist\,\n\nSue Hand's "Susquehanna Song" will be on display at The Penn State Wilkes-Barre Friedman Art Gallery from\n\nSeptember 10- October 15\, 2019 \n\n\n\n\n\nGallery is open to the public\, except during Holiday breaks\, Monday through Friday 9:00 AM-4:00 PM \n\n\n\nFor Additional Information Contact:\n\nJonathan Pineno 570-675-9519\n\nFriedmanArtGallery@psu.edu
X-ALT-DESC;FMTTYPE=text/html:<span style="color:#008080\;"><em><span style="font-family:times new roman\;"><span style="font-size:14px\;">Imagine holding a paintbrush in one hand and a canoe paddle in the other as you journey through the North Branch of The Susquehanna River while creating an epic\, 300-piece series entitled\, &quot\;Susquehanna Song&quot\;</span></span></em><br />\n<br />\n<span style="font-family:times new roman\;"><span style="font-size:20px\;">A selection of local Dallas\, PA artist\,<br />\n<u><em>Sue Hand&#39\;s &quot\;Susquehanna Song&quot\;</em></u> will be on display at The Penn State Wilkes-Barre Friedman Art Gallery from<br />\n<u>September 10- October 15\, 2019</u>&nbsp\;<br />\n<br />\n<br />\nGallery is open to the public\, except during Holiday breaks\, Monday through Friday 9:00 AM-4:00 PM&nbsp\;<br />\n<br />\n<span style="font-size:16px\;">For Additional Information Contact:<br />\nJonathan Pineno 570-675-9519<br />\nFriedmanArtGallery@psu.edu</span></span></span></span><br />\n<br />\n&nbsp\;
LOCATION:The Friedman Art Gallery located at Penn State Wilkes-Barre Lehman\, PA
UID:e.3296.272
SEQUENCE:3
DTSTAMP:20260424T111114Z
URL:https://business.backmountainchamber.org/events/details/sue-hand-s-susquehanna-song-a-friedman-art-gallery-exhibit-272
END:VEVENT

END:VCALENDAR
