BEGIN:VCALENDAR
VERSION:2.0
PRODID:-//ChamberMaster//Event Calendar 2.0//EN
METHOD:PUBLISH
X-PUBLISHED-TTL:P3D
REFRESH-INTERVAL:P3D
CALSCALE:GREGORIAN
BEGIN:VEVENT
DTSTART:20230608T150000Z
DTEND:20230611T210000Z
X-MICROSOFT-CDO-ALLDAYEVENT:FALSE
SUMMARY:Summer Online Auction
DESCRIPTION:On Thursday\, June 8th\, the Luzerne County Historical Society will hold its seventh online auction on the virtual Auctria platform. This auction will run through Sunday\, June 11th. The auction will once again feature a wide variety of books\, maps\, lithographs\, and other ephemera\, as well as crocks\, dinnerware\, artwork\, collector's items\, etc. (Note: All items in the auction have been deaccessioned due to relevance\, wear\, duplication\, etc. are NO LONGER collection pieces of the LCHS). Perfect for the history buff in your life! So keep your eyes on this space for item previews as we approach the June 8th start date\, and then bid\, bid\, bid! And remember\, creating an Auctria account is free and easy! And if you have made an account for one of our prior auctions\, there's no need to re-register!
X-ALT-DESC;FMTTYPE=text/html:On Thursday\, June 8th\, the Luzerne County Historical Society will hold its seventh online auction on the virtual Auctria platform. This auction will run through Sunday\, June 11th. The auction will once again feature a wide variety of books\, maps\, lithographs\, and other ephemera\, as well as crocks\, dinnerware\, artwork\, collector&#39\;s items\, etc. (Note: All items in the auction have been deaccessioned due to relevance\, wear\, duplication\, etc. are NO LONGER collection pieces of the LCHS). Perfect for the history buff in your life! So keep your eyes on this space for item previews as we approach the June 8th start date\, and then bid\, bid\, bid! And remember\, creating an Auctria account is free and easy! And if you have made an account for one of our prior auctions\, there&#39\;s no need to re-register!
LOCATION:Luzerne County Historical Society
UID:e.3296.847
SEQUENCE:3
DTSTAMP:20260421T115212Z
URL:https://business.backmountainchamber.org/events/details/summer-online-auction-847
END:VEVENT

END:VCALENDAR
