BEGIN:VCALENDAR
VERSION:2.0
PRODID:-//ChamberMaster//Event Calendar 2.0//EN
METHOD:PUBLISH
X-PUBLISHED-TTL:P3D
REFRESH-INTERVAL:P3D
CALSCALE:GREGORIAN
BEGIN:VEVENT
DTSTART:20190921T160000Z
DTEND:20190921T210000Z
X-MICROSOFT-CDO-ALLDAYEVENT:FALSE
SUMMARY:Take The Stage Conservatory Grand Opening & Ribbon Cutting
DESCRIPTION:Take The Stage Conservatory\n\n               **Grand Opening**\n\n                        September 21st\n\n                   Doors Open at Noon
X-ALT-DESC;FMTTYPE=text/html:<span style="font-size:18px\;"><span style="font-family:verdana\;">&nbsp\; &nbsp\; &nbsp\; &nbsp\; &nbsp\; &nbsp\; &nbsp\; &nbsp\; &nbsp\; &nbsp\;<br />\n&nbsp\; &nbsp\; &nbsp\; &nbsp\;<span style="font-size:24px\;"><strong>Take The Stage&nbsp\;Conservatory</strong></span><br />\n<span style="font-size:22px\;">&nbsp\; &nbsp\; &nbsp\; &nbsp\; &nbsp\; &nbsp\; &nbsp\; &nbsp\;**<span style="font-size:24px\;"><strong>Grand Opening**</strong></span></span><br />\n&nbsp\; &nbsp\; &nbsp\; &nbsp\; &nbsp\; &nbsp\; &nbsp\; &nbsp\; &nbsp\; &nbsp\; &nbsp\; &nbsp\; <span style="font-size:20px\;">September 21st<br />\n&nbsp\; &nbsp\; &nbsp\; &nbsp\; &nbsp\; &nbsp\; &nbsp\; &nbsp\; &nbsp\; &nbsp\;Doors Open at Noon</span></span></span>
LOCATION:2101 Memorial Highway Dallas\, PA 18612
UID:e.3296.250
SEQUENCE:3
DTSTAMP:20260424T124259Z
URL:https://business.backmountainchamber.org/events/details/take-the-stage-conservatory-grand-opening-ribbon-cutting-250
END:VEVENT

END:VCALENDAR
