BEGIN:VCALENDAR
VERSION:2.0
PRODID:-//ChamberMaster//Event Calendar 2.0//EN
METHOD:PUBLISH
X-PUBLISHED-TTL:P3D
REFRESH-INTERVAL:P3D
CALSCALE:GREGORIAN
BEGIN:VEVENT
DTSTART:20191208T170000Z
DTEND:20191208T210000Z
X-MICROSOFT-CDO-ALLDAYEVENT:FALSE
SUMMARY:The Holiday Market At The Barn
DESCRIPTION:The Holiday Market At The Barn\n\nSunday\, December 8\, 2019\n\n12-4 pm
X-ALT-DESC;FMTTYPE=text/html:The Holiday Market At The Barn<br />\nSunday\, December 8\, 2019<br />\n12-4 pm
LOCATION:100 East Overbrook Road Shavertown\, PA 18708 570.255.4175 TheBarnNutritionandFitness@gmail.com
UID:e.3296.293
SEQUENCE:3
DTSTAMP:20260424T083835Z
URL:https://business.backmountainchamber.org/events/details/the-holiday-market-at-the-barn-293
END:VEVENT

END:VCALENDAR
