BEGIN:VCALENDAR
VERSION:2.0
PRODID:-//ChamberMaster//Event Calendar 2.0//EN
METHOD:PUBLISH
X-PUBLISHED-TTL:P3D
REFRESH-INTERVAL:P3D
CALSCALE:GREGORIAN
BEGIN:VEVENT
DTSTART:20190321T120000Z
DTEND:20190321T133000Z
X-MICROSOFT-CDO-ALLDAYEVENT:FALSE
SUMMARY:Think About Energy Breakfast
DESCRIPTION:Think About Energy Breakfast sponsored by Cabot Oil & Gas.  Enjoy breakfast and learn about our country's advances towards energy independence.
X-ALT-DESC;FMTTYPE=text/html:Think About Energy Breakfast sponsored by Cabot Oil &amp\; Gas.&nbsp\; Enjoy breakfast and learn about our country&#39\;s advances towards energy independence.
LOCATION:Huntsville Golf Club\, 1334 Market St.\, Dallas\, PA 18612
UID:e.3296.203
SEQUENCE:3
DTSTAMP:20260424T213228Z
URL:https://business.backmountainchamber.org/events/details/think-about-energy-breakfast-203
END:VEVENT

END:VCALENDAR
