BEGIN:VCALENDAR
VERSION:2.0
PRODID:-//ChamberMaster//Event Calendar 2.0//EN
METHOD:PUBLISH
X-PUBLISHED-TTL:P3D
REFRESH-INTERVAL:P3D
CALSCALE:GREGORIAN
BEGIN:VEVENT
DTSTART:20230624T130000Z
DTEND:20230624T200000Z
X-MICROSOFT-CDO-ALLDAYEVENT:FALSE
SUMMARY:Tour of Back Mountain Gardens
DESCRIPTION:The Back Mountain Bloomers Garden Club will host the 2023 'Tour of Back Mountain Gardens' on Saturday\, June 24. The tenth biennial event will include tours of five private gardens\; numerous nature\, gardening\, container\, and educational presentations\, and the popular Bloomers Flower Show\, with the theme "A Time to Remember." New this year will be the chance to tour a pollinator garden\, located adjacent to the Dallas Township Municipal Building. Master gardeners\, who created and care for the garden\, will be on hand to answer questions about the garden's plants\, selected because of their ability to attract pollinators such as bees\, wasps\, and butterflies\, and the importance of pollination to the world's food chain. All Garden Tour stops are located within an eight-mile radius of the Borough of Dallas in the area known as the Back Mountain of Luzerne County. Ticket information is available at www.backmountainbloomers.org. Proceeds will support Back Mountain Bloomers community outreach projects.
X-ALT-DESC;FMTTYPE=text/html:The Back Mountain Bloomers Garden Club will host the 2023 &lsquo\;Tour of Back Mountain Gardens&rsquo\; on Saturday\, June 24. The tenth biennial event will include tours of five private gardens\; numerous nature\, gardening\, container\, and educational presentations\, and the popular Bloomers Flower Show\, with the theme &ldquo\;A Time to Remember.&rdquo\; New this year will be the chance to tour a pollinator garden\, located adjacent to the Dallas Township Municipal Building. Master gardeners\, who created and care for the garden\, will be on hand to answer questions about the garden&rsquo\;s plants\, selected because of their ability to attract pollinators such as bees\, wasps\, and butterflies\, and the importance of pollination to the world&rsquo\;s food chain. All Garden Tour stops are located within an eight-mile radius of the Borough of Dallas in the area known as the Back Mountain of Luzerne County. Ticket information is available at www.backmountainbloomers.org. Proceeds will support Back Mountain Bloomers community outreach projects.
LOCATION:Registration: Dallas Township Municipal Building\, 105 Lt. Michael Cleary Drive\, Dallas\, PA 18612
UID:e.3296.831
SEQUENCE:3
DTSTAMP:20260421T113248Z
URL:https://business.backmountainchamber.org/events/details/tour-of-back-mountain-gardens-831
END:VEVENT

END:VCALENDAR
