BEGIN:VCALENDAR
VERSION:2.0
PRODID:-//ChamberMaster//Event Calendar 2.0//EN
METHOD:PUBLISH
X-PUBLISHED-TTL:P3D
REFRESH-INTERVAL:P3D
CALSCALE:GREGORIAN
BEGIN:VEVENT
DTSTART:20191205T210000Z
DTEND:20191206T010000Z
X-MICROSOFT-CDO-ALLDAYEVENT:FALSE
SUMMARY:Tovon and Co. Diamonds Ribbon Cutting Event
DESCRIPTION:Join Tovon & Co. Diamonds and the Back Mountain Chamber as they host their very first ribbon cutting ceremony with the chamber as we kick of the holiday shopping season!\n\n\n\nThursday\, December 5th\, 2019\n\n4-8 PM\n\n47 Dallas Shopping Center\, Dallas\, PA 18612
X-ALT-DESC;FMTTYPE=text/html:<br />\n<span style="color:#FF0000\;"><span style="font-family:times new roman\;"><span style="font-size:22px\;">Join <u>Tovon &amp\; Co. Diamonds</u> and the Back Mountain Chamber as they host their very first ribbon cutting ceremony with the chamber as we kick of the holiday shopping season!<br />\n<br />\nThursday\, December 5th\, 2019<br />\n4-8 PM</span></span><br />\n<span style="font-family:times new roman\;"><span style="font-size:22px\;"><span style="background-color: rgb(255\, 255\, 255)\;">47 Dallas Shopping Center\, Dallas\, PA 18612</span></span></span></span>
LOCATION:Tovon & Co. Diamonds 47 Dallas Shopping Center\, Dallas PA 18612
UID:e.3296.288
SEQUENCE:3
DTSTAMP:20260424T081943Z
URL:https://business.backmountainchamber.org/events/details/tovon-and-co-diamonds-ribbon-cutting-event-288
END:VEVENT

END:VCALENDAR
