BEGIN:VCALENDAR
VERSION:2.0
PRODID:-//ChamberMaster//Event Calendar 2.0//EN
METHOD:PUBLISH
X-PUBLISHED-TTL:P3D
REFRESH-INTERVAL:P3D
CALSCALE:GREGORIAN
BEGIN:VEVENT
DTSTART:20190504T203000Z
DTEND:20190504T230000Z
X-MICROSOFT-CDO-ALLDAYEVENT:FALSE
SUMMARY:Trucksville United Methodist Church Chicken Bar-B-Q
DESCRIPTION:Trucksville United Methodist Church Chicken Bar-B-Q\n\nFriday May 3 and Saturday\, May 4
X-ALT-DESC;FMTTYPE=text/html:Trucksville United Methodist Church Chicken Bar-B-Q<br />\nFriday May 3 and Saturday\, May 4&nbsp\;
LOCATION:William & Melba Dickson Educational Facility 40 Knob Hill Rd. Trucksville\, PA
UID:e.3296.220
SEQUENCE:3
DTSTAMP:20260424T190032Z
URL:https://business.backmountainchamber.org/events/details/trucksville-united-methodist-church-chicken-bar-b-q-05-04-2019-220
END:VEVENT

END:VCALENDAR
