BEGIN:VCALENDAR
VERSION:2.0
PRODID:-//ChamberMaster//Event Calendar 2.0//EN
METHOD:PUBLISH
X-PUBLISHED-TTL:P3D
REFRESH-INTERVAL:P3D
CALSCALE:GREGORIAN
BEGIN:VEVENT
DTSTART:20191005T203000Z
DTEND:20191005T230000Z
X-MICROSOFT-CDO-ALLDAYEVENT:FALSE
SUMMARY:Trucksville United Methodist Church Fall Chicken BBQ
DESCRIPTION:Trucksville United Methodist Church Annual Fall Chicken BBQ\n\n40 Knob Hill Road \n\nTrucksville\, PA\n\n\n\nSaturday 10/5 4:30PM-7PM\n\nTake outs begin at 4:30PM/ eat in begins at 5PM
X-ALT-DESC;FMTTYPE=text/html:<br />\n<span style="font-size:16px\;"><strong>Trucksville United Methodist Church Annual Fall Chicken BBQ</strong></span><br />\n<span style="color: rgb(51\, 51\, 51)\; font-family: sans-serif\, Arial\, Verdana\, &quot\;Trebuchet MS&quot\;\; font-size: 13px\; background-color: rgb(255\, 255\, 255)\;">40 Knob Hill Road&nbsp\;</span><br style="color: rgb(51\, 51\, 51)\; font-family: sans-serif\, Arial\, Verdana\, &quot\;Trebuchet MS&quot\;\; font-size: 13px\;" />\n<span style="color: rgb(51\, 51\, 51)\; font-family: sans-serif\, Arial\, Verdana\, &quot\;Trebuchet MS&quot\;\; font-size: 13px\; background-color: rgb(255\, 255\, 255)\;">Trucksville\, PA</span><br />\n<br />\nSaturday 10/5 4:30PM-7PM<br />\nTake outs begin at 4:30PM/ eat in begins at 5PM<br />\n&nbsp\;
LOCATION:Trucksville United Methodist Church 40 Knob Hill Rd Shavertown\, PA
UID:e.3296.265
SEQUENCE:3
DTSTAMP:20260424T111029Z
URL:https://business.backmountainchamber.org/events/details/trucksville-united-methodist-church-fall-chicken-bbq-10-05-2019-265
END:VEVENT

END:VCALENDAR
