BEGIN:VCALENDAR
VERSION:2.0
PRODID:-//ChamberMaster//Event Calendar 2.0//EN
METHOD:PUBLISH
X-PUBLISHED-TTL:P3D
REFRESH-INTERVAL:P3D
CALSCALE:GREGORIAN
BEGIN:VEVENT
DTSTART:20191004T203000Z
DTEND:20191004T230000Z
X-MICROSOFT-CDO-ALLDAYEVENT:FALSE
SUMMARY:Trucksville United Methodist Church Fall Chicken BBQ
DESCRIPTION:Trucksville United Methodist Church annual Fall Chicken BBQ\n\n\n\n40 Knob Hill Road\, Trucksville\, PA\n\n\n\nFriday 10/4 4:30-7:00 PM\n\nSaturday 10/5 4:30-7 PM\n\nTake outs begin at 4:30PM\, eat in begin at 5PM
X-ALT-DESC;FMTTYPE=text/html:<br />\n<span style="font-family:tahoma\;"><span style="font-size:16px\;"><strong>Trucksville United Methodist Church annual Fall Chicken BBQ</strong></span></span><br />\n<br />\n40 Knob Hill Road\, Trucksville\, PA<br />\n<br />\nFriday 10/4 4:30-7:00 PM<br />\nSaturday 10/5 4:30-7 PM<br />\nTake outs begin at 4:30PM\, eat in begin at 5PM
LOCATION:40 Knob Hill Road Trucksville\, PA
UID:e.3296.264
SEQUENCE:3
DTSTAMP:20260424T111011Z
URL:https://business.backmountainchamber.org/events/details/trucksville-united-methodist-church-fall-chicken-bbq-264
END:VEVENT

END:VCALENDAR
