BEGIN:VCALENDAR
VERSION:2.0
PRODID:-//ChamberMaster//Event Calendar 2.0//EN
METHOD:PUBLISH
X-PUBLISHED-TTL:P3D
REFRESH-INTERVAL:P3D
CALSCALE:GREGORIAN
BEGIN:VEVENT
DTSTART:20191029T210000Z
DTEND:20191030T000000Z
X-MICROSOFT-CDO-ALLDAYEVENT:FALSE
SUMMARY:Valentine's Shopping Event
DESCRIPTION:Valentine's Shopping Event\n\nTuesday October 29\, 2019\n\n5 PM- 8 PM\n\nJoin the Back Mountain Chamber at Valentine's Fine Jewelry for our monthly InFUELence Your Community Event Sponsored by: Fuel Interactive Media\n\n\n\nThis event invitation is open to all Chamber Members as well as anyone interested in becoming a member or learning more about what the Back Mountain Chamber can offer your business. \n\n\n\nWine\, Snacks\, Shopping\, and SO MUCH MORE! Valentine's will be offering a special shopping promotion TBA\n\n\n\nPre-registration not required. Stop in and see all of the amazing jewelry and gift options that Valentine's has to offer! OH\, DID WE MENTION? CHRISTMAS IS ONLY 8 WEEKS AFTER THIS EVENT! Great opportunity to start your holiday wish lists!\n\n\n\nValentine's Fine Jewelry\n\n2465-2 SR 309 Hwy.\n\nDallas\, PA 18612\n\n570-675-6945
X-ALT-DESC;FMTTYPE=text/html:<u><strong><span style="color:#800080\;"><span style="font-size:18px\;">Valentine&#39\;s Shopping Event</span></span></strong></u><br />\n<span style="color:#800080\;">Tuesday October 29\, 2019<br />\n5 PM- 8 PM<br />\nJoin the Back Mountain Chamber at Valentine&#39\;s Fine Jewelry for our monthly InFUELence Your Community <u>Event Sponsored by: Fuel Interactive Media</u><br />\n<br />\nThis event invitation is open to all Chamber Members as well as anyone interested in becoming a member or learning more about what the Back Mountain Chamber can offer your business.&nbsp\;<br />\n<br />\nWine\, Snacks\, Shopping\, and SO MUCH MORE! Valentine&#39\;s will be offering a special shopping promotion TBA<br />\n<br />\nPre-registration not required. Stop in and see all of the amazing jewelry and gift options that Valentine&#39\;s has to offer! OH\, DID WE MENTION? CHRISTMAS IS ONLY 8 WEEKS AFTER THIS EVENT! Great opportunity to start your holiday wish lists!<br />\n<br />\nValentine&#39\;s Fine Jewelry<br />\n2465-2 SR 309 Hwy.<br />\nDallas\, PA 18612</span><br />\n<span style="color:#800080\;">570-675-6945</span><br />\n&nbsp\;
LOCATION:Valentine's Fine Jewelry 2465-2 SR 309 Hwy. Dallas\, PA 18612 570-675-6945
UID:e.3296.283
SEQUENCE:3
DTSTAMP:20260424T122748Z
URL:https://business.backmountainchamber.org/events/details/valentine-s-shopping-event-283
END:VEVENT

END:VCALENDAR
