BEGIN:VCALENDAR
VERSION:2.0
PRODID:-//ChamberMaster//Event Calendar 2.0//EN
METHOD:PUBLISH
X-PUBLISHED-TTL:P3D
REFRESH-INTERVAL:P3D
CALSCALE:GREGORIAN
BEGIN:VEVENT
DTSTART:20191025T213000Z
DTEND:20191025T233000Z
X-MICROSOFT-CDO-ALLDAYEVENT:FALSE
SUMMARY:Verve Vertu presents\, " The Language of Nature"
DESCRIPTION:Verve Vertu presents\, "The Language of Nature"\n\nFriday October 25\, 2019\n\n5:30- 7:30 PM\n\nMusic and Light Refreshments\n\n24 Main Street \n\nDallas\, PA 18612
X-ALT-DESC;FMTTYPE=text/html:Verve Vertu presents\, &quot\;The Language of Nature&quot\;<br />\nFriday October 25\, 2019<br />\n5:30- 7:30 PM<br />\nMusic and Light Refreshments<br />\n24 Main Street&nbsp\;<br />\nDallas\, PA 18612
LOCATION:Verve Vertu 24 Main Street Dallas\, PA 18612
UID:e.3296.280
SEQUENCE:3
DTSTAMP:20260424T110936Z
URL:https://business.backmountainchamber.org/events/details/verve-vertu-presents-the-language-of-nature-280
END:VEVENT

END:VCALENDAR
