BEGIN:VCALENDAR
VERSION:2.0
PRODID:-//ChamberMaster//Event Calendar 2.0//EN
METHOD:PUBLISH
X-PUBLISHED-TTL:P3D
REFRESH-INTERVAL:P3D
CALSCALE:GREGORIAN
BEGIN:VEVENT
DTSTART:20230430T140000Z
DTEND:20230430T180000Z
X-MICROSOFT-CDO-ALLDAYEVENT:FALSE
SUMMARY:We Run Together 5k Benefitting A Moment of Magic Foundation
DESCRIPTION:The Misericordia University Chapter of A Moment of Magic Foundation will be hosting a 5k run/walk to support our activities for children in the community. A Moment of Magic is a national 501(c)(3) nonprofit with a mission to improve the quality of life of vulnerable and underserved children and inspire them to be brave\, strong\, and fearless through fun and engaging social wellness activities.
X-ALT-DESC;FMTTYPE=text/html:The Misericordia University Chapter of A Moment of Magic Foundation will be hosting a 5k run/walk to support our activities for children in the community. A Moment of Magic is a national 501(c)(3) nonprofit with a mission to improve the quality of life of vulnerable and underserved children and inspire them to be brave\, strong\, and fearless through fun and engaging social wellness activities.
LOCATION:Misericordia University 301 Lake St. Dallas\, PA 18612 (Sign in will be in front of Anderson Health Center)
UID:e.3296.841
SEQUENCE:3
DTSTAMP:20260421T161349Z
URL:https://business.backmountainchamber.org/events/details/we-run-together-5k-benefitting-a-moment-of-magic-foundation-841
END:VEVENT

END:VCALENDAR
