BEGIN:VCALENDAR
VERSION:2.0
PRODID:-//ChamberMaster//Event Calendar 2.0//EN
METHOD:PUBLISH
X-PUBLISHED-TTL:P3D
REFRESH-INTERVAL:P3D
CALSCALE:GREGORIAN
BEGIN:VEVENT
DTSTART:20220602T150000Z
DTEND:20220602T160000Z
X-MICROSOFT-CDO-ALLDAYEVENT:FALSE
SUMMARY:Wilkes-Barre Pride Flag Raising
DESCRIPTION:Join the Rainbow Alliance and Queer NEPA in kicking off Pride Month with the annual raising of the Pride Flag on Public Square in Downtown Wilkes-Barre. The flag raising will take place at 10:00 AM on Thursday\, June 2nd! Event is free to attend!
X-ALT-DESC;FMTTYPE=text/html:Join the Rainbow Alliance and Queer NEPA in kicking off Pride Month with the annual raising of the Pride Flag on Public Square in Downtown Wilkes-Barre. The flag raising will take place at 10:00 AM on Thursday\, June 2nd! Event is free to attend!
LOCATION:Public Square\, Wilkes-Barre
UID:e.3296.754
SEQUENCE:3
DTSTAMP:20260422T063316Z
URL:https://business.backmountainchamber.org/events/details/wilkes-barre-pride-flag-raising-754
END:VEVENT

END:VCALENDAR
